Workbook
Name Hidden_13: Hidden_1!$A$1:$A$8
Name Hidden_28: Hidden_2!$A$1:$A$3
Name Hidden_312: Hidden_3!$A$1:$A$2
Name Hidden_424: Hidden_4!$A$1:$A$2

Sheet Reporte de Formatos FEBRERO 26
A1: 47329
A2: TÍTULO | D2: NOMBRE CORTO | G2: DESCRIPCIÓN
A3: Las concesiones, contratos, convenios, permisos, licencias o autorizaciones otorgadas | D3: NLA95FXXVIII | G3: La información de cualquier tipo de concesión, contratos, convenios, permisos, licencias o autorizaciones otorgados, de acuerdo con sus atribuciones. La información se organizará por acto jurídico y publicarse a partir de la fecha en la que éste inició.
A4: 1 | B4: 4 | C4: 4 | D4: 9 | E4: 2 | F4: 2 | G4: 2 | H4: 1 | I4: 9 | J4: 1 | K4: 1 | L4: 1 | M4: 9 | N4: 1 | O4: 10 | P4: 4 | Q4: 4 | R4: 1 | S4: 7 | T4: 2 | U4: 6 | V4: 7 | W4: 7 | X4: 7 | Y4: 9 | Z4: 7 | AA4: 2 | AB4: 13 | AC4: 14
A5: 406978 | B5: 406991 | C5: 406992 | D5: 406968 | E5: 406993 | F5: 406979 | G5: 406980 | H5: 406972 | I5: 406990 | J5: 406973 | K5: 406974 | L5: 406975 | M5: 571227 | N5: 406976 | O5: 590155 | P5: 406982 | Q5: 406983 | R5: 406977 | S5: 406988 | T5: 406981 | U5: 406994 | V5: 406986 | W5: 406985 | X5: 406987 | Y5: 406995 | Z5: 406971 | AA5: 406969 | AB5: 406989 | AC5: 406970
A6: Tabla Campos
A7: Ejercicio | B7: Fecha de inicio del periodo que se informa | C7: Fecha de término del periodo que se informa | D7: Tipo de acto jurídico (catálogo) | E7: Número de control interno asignado, en su caso, al contrato, convenio, concesión, entre otros. | F7: Objeto de la realización del acto jurídico | G7: Fundamento jurídico por el cual se llevó a cabo el acto | H7: Unidad(es) o área(s) responsable(s) de instrumentación | I7: Sector al cual se otorgó el acto jurídico (catálogo) | J7: Nombre(s) de la persona física titular a quien se otorgó el acto jurídico | K7: Primer apellido de la persona física titular a quien se otorgó el acto jurídico | L7: Segundo apellido de la persona física titular a quien se otorgó el acto jurídico | M7: ESTE CRITERIO APLICA A PARTIR DEL 01/04/2023 -> Sexo (catálogo) | N7: Razón social de la persona moral titular a quien se otorgó el acto jurídico | O7: Persona(s) beneficiaria(s) final(es) Tabla_590155 | P7: Fecha de inicio de vigencia del acto jurídico | Q7: Fecha de término de vigencia del acto jurídico | R7: Cláusula en que se especifican los términos y condiciones del acto jurídico | S7: Hipervínculo al contrato, convenio, permiso, licencia o concesión | T7: Monto total o beneficio, servicio y/o recurso público aprovechado | U7: Monto entregado, bien, servicio y/o recurso público aprovechado al periodo que se informa | V7: Hipervínculo al documento donde se desglose el gasto a precios del año | W7: Hipervínculo al informe sobre el monto total erogado, que en su caso corresponda | X7: Hipervínculo al contrato plurianual modificado, en su caso | Y7: Se realizaron convenios modificatorios (catálogo) | Z7: Hipervínculo al convenio modificatorio, si así corresponde | AA7: Área(s) responsable(s) que genera(n), posee(n), publica(n) y actualizan la información | AB7: Fecha de actualización | AC7: Nota
A8: 2026 | B8: 46054 | C8: 46081 | D8: Permiso | E8: 263-26 | F8: ESTACIONAMIENTO EXCLUSIVO RESIDENCIAL | G8: REGLAMENTO DE TRANSITO HOMOLOGADO | H8: SECRETARÍA DE INFRAESTRUCTURA Y DESARROLLO URBANO | I8: Privado | J8: =+Tabla_590155!D4 -> ARGELIA | K8: =+Tabla_590155!B4 -> GARCÍA | L8: =+Tabla_590155!C4 -> MORALES | M8: Mujer | O8: =+Tabla_590155!A4 -> 1 | P8: 46079 | Q8: 46387 | R8: ARTÍCULO 58 | S8: =4398.39+3410 -> 7808.39 | T8: =+S8 -> 7808.39 | V8: https://nuevatransparencia.guadalupe.gob.mx/cms/documentosTransparenciaLinks/305/109/anexo_7280_263-26%20EXCLUSIVO%20RESIDENCIAL%20FEBRERO%202026.pdf | Y8: No | AA8: DIRECCIÓN DE INGENIERÍA VIAL | AB8: 46081 | AC8: En la celda de Razon Social en el cual se otorga el acto Juridico a persona fisica por tal motivo se deja en blanco por tratarse de una persona física, en las celdas de Hipervinculo el documento donde se dosglose el gasto a precio del año, Hipervínculo al informe sobre el monto total erogado, que en su caso corresponda se deja en blanco.
A9: 2026 | B9: 46054 | C9: 46081 | D9: Permiso | E9: 277-26 | F9: ESTACIONAMIENTO EXCLUSIVO RESIDENCIAL | G9: REGLAMENTO DE TRANSITO HOMOLOGADO | H9: SECRETARÍA DE INFRAESTRUCTURA Y DESARROLLO URBANO | I9: Privado | J9: =+Tabla_590155!D5 -> ROSA YOLANDA | K9: =+Tabla_590155!B5 -> VÁZQUEZ | L9: =+Tabla_590155!C5 -> SOLANO | M9: Mujer | O9: =+Tabla_590155!A5 -> 2 | P9: 46076 | Q9: 46387 | R9: ARTÍCULO 58 | S9: =6820+6938.88 -> 13758.88 | T9: =+S9 -> 13758.88 | V9: https://nuevatransparencia.guadalupe.gob.mx/cms/documentosTransparenciaLinks/305/109/anexo_7285_277-26%20EXCLUSIVO%20RESIDENCIAL%20FEBRERO%202026.pdf | Y9: No | AA9: DIRECCIÓN DE INGENIERÍA VIAL | AB9: 46081 | AC9: En la celda de Razon Social en el cual se otorga el acto Juridico a persona fisica por tal motivo se deja en blanco por tratarse de una persona física, en las celdas de Hipervinculo el documento donde se dosglose el gasto a precio del año, Hipervínculo al informe sobre el monto total erogado, que en su caso corresponda se deja en blanco.
A10: 2026 | B10: 46054 | C10: 46081 | D10: Permiso | E10: 281-26 | F10: ESTACIONAMIENTO EXCLUSIVO RESIDENCIAL | G10: REGLAMENTO DE TRANSITO HOMOLOGADO | H10: SECRETARÍA DE INFRAESTRUCTURA Y DESARROLLO URBANO | I10: Privado | J10: =+Tabla_590155!D6 -> HILDA MARCELA | K10: =+Tabla_590155!B6 -> LOZANO | L10: =+Tabla_590155!C6 -> SALINAS | M10: Mujer | O10: =+Tabla_590155!A6 -> 3 | P10: 46076 | Q10: 46387 | R10: ARTÍCULO 58 | S10: =6938.88+6820 -> 13758.88 | T10: =+S10 -> 13758.88 | V10: https://nuevatransparencia.guadalupe.gob.mx/cms/documentosTransparenciaLinks/305/109/anexo_7287_281-26%20EXCLUSIVO%20RESIDENCIAL%20FEBRERO%202026.pdf | Y10: No | AA10: DIRECCIÓN DE INGENIERÍA VIAL | AB10: 46081 | AC10: En la celda de Razon Social en el cual se otorga el acto Juridico a persona fisica por tal motivo se deja en blanco por tratarse de una persona física, en las celdas de Hipervinculo el documento donde se dosglose el gasto a precio del año, Hipervínculo al informe sobre el monto total erogado, que en su caso corresponda se deja en blanco.
A11: 2026 | B11: 46054 | C11: 46081 | D11: Permiso | E11: 282-26 | F11: ESTACIONAMIENTO EXCLUSIVO COMERCIAL | G11: REGLAMENTO DE TRANSITO HOMOLOGADO | H11: SECRETARÍA DE INFRAESTRUCTURA Y DESARROLLO URBANO | I11: Privado | J11: =+Tabla_590155!D7 -> CARLA LILIANA | K11: =+Tabla_590155!B7 -> CARDOSO | L11: =+Tabla_590155!C7 -> HERRERA | M11: Mujer | O11: =+Tabla_590155!A7 -> 4 | P11: 46073 | Q11: 46387 | R11: ARTÍCULO 58 | S11: =3410+9573.47 -> 12983.47 | T11: =+S11 -> 12983.47 | V11: https://nuevatransparencia.guadalupe.gob.mx/cms/documentosTransparenciaLinks/305/109/anexo_7288_282-26%20EXCLUSIVO%20COMERCIAL%20FEBRERO%202026.pdf | Y11: No | AA11: DIRECCIÓN DE INGENIERÍA VIAL | AB11: 46081 | AC11: En la celda de Razon Social en el cual se otorga el acto Juridico a persona fisica por tal motivo se deja en blanco por tratarse de una persona física, en las celdas de Hipervinculo el documento donde se dosglose el gasto a precio del año, Hipervínculo al informe sobre el monto total erogado, que en su caso corresponda se deja en blanco.
A12: 2026 | B12: 46054 | C12: 46081 | D12: Permiso | E12: 279-26 | F12: ESTACIONAMIENTO EXCLUSIVO RESIDENCIAL | G12: REGLAMENTO DE TRANSITO HOMOLOGADO | H12: SECRETARÍA DE INFRAESTRUCTURA Y DESARROLLO URBANO | I12: Privado | J12: =+Tabla_590155!D8 -> GERSO | K12: =+Tabla_590155!B8 -> MARTÍNEZ | L12: =+Tabla_590155!C8 -> ZACARIAS | M12: Hombre | O12: =+Tabla_590155!A8 -> 5 | P12: 46071 | Q12: 46387 | R12: ARTÍCULO 58 | S12: =6820+7503.44 -> 14323.44 | T12: =+S12 -> 14323.44 | V12: https://nuevatransparencia.guadalupe.gob.mx/cms/documentosTransparenciaLinks/305/109/anexo_7286_279-26%20EXCLUSIVO%20RESIDENCIAL%20FEBRERO%202026.pdf | Y12: No | AA12: DIRECCIÓN DE INGENIERÍA VIAL | AB12: 46081 | AC12: En la celda de Razon Social en el cual se otorga el acto Juridico a persona fisica por tal motivo se deja en blanco por tratarse de una persona física, en las celdas de Hipervinculo el documento donde se dosglose el gasto a precio del año, Hipervínculo al informe sobre el monto total erogado, que en su caso corresponda se deja en blanco.
A13: 2026 | B13: 46054 | C13: 46081 | D13: Permiso | E13: 273-26 | F13: ESTACIONAMIENTO EXCLUSIVO RESIDENCIAL | G13: REGLAMENTO DE TRANSITO HOMOLOGADO | H13: SECRETARÍA DE INFRAESTRUCTURA Y DESARROLLO URBANO | I13: Privado | J13: =+Tabla_590155!D9 -> VÍCTOR MANUEL | K13: =+Tabla_590155!B9 -> SUSTAITA | L13: =+Tabla_590155!C9 -> RODRÍGUEZ | M13: Hombre | O13: =+Tabla_590155!A9 -> 6 | P13: 46071 | Q13: 46387 | R13: ARTÍCULO 58 | S13: =9197.1+6820 -> 16017.1 | T13: =+S13 -> 16017.1 | V13: https://nuevatransparencia.guadalupe.gob.mx/cms/documentosTransparenciaLinks/305/109/anexo_7282_273-26%20EXCLUSIVO%20RESIDENCIAL%20FEBRERO%202026.pdf | Y13: No | AA13: DIRECCIÓN DE INGENIERÍA VIAL | AB13: 46081 | AC13: En la celda de Razon Social en el cual se otorga el acto Juridico a persona fisica por tal motivo se deja en blanco por tratarse de una persona física, en las celdas de Hipervinculo el documento donde se dosglose el gasto a precio del año, Hipervínculo al informe sobre el monto total erogado, que en su caso corresponda se deja en blanco.
A14: 2026 | B14: 46054 | C14: 46081 | D14: Permiso | E14: 275-26 | F14: ESTACIONAMIENTO EXCLUSIVO RESIDENCIAL | G14: REGLAMENTO DE TRANSITO HOMOLOGADO | H14: SECRETARÍA DE INFRAESTRUCTURA Y DESARROLLO URBANO | I14: Privado | J14: =+Tabla_590155!D10 -> ROBERTO | K14: =+Tabla_590155!B10 -> DÍAZ DE LEÓN | L14: =+Tabla_590155!C10 -> PIÑON | M14: Hombre | O14: =+Tabla_590155!A10 -> 7 | P14: 46071 | Q14: 46387 | R14: ARTÍCULO 58 | S14: =10230+14842.64 -> 25072.64 | T14: =+S14 -> 25072.64 | V14: https://nuevatransparencia.guadalupe.gob.mx/cms/documentosTransparenciaLinks/305/109/anexo_7284_275-26%20EXCLUSIVO%20RESIDENCIAL%20FEBRERO%202026.pdf | Y14: No | AA14: DIRECCIÓN DE INGENIERÍA VIAL | AB14: 46081 | AC14: En la celda de Razon Social en el cual se otorga el acto Juridico a persona fisica por tal motivo se deja en blanco por tratarse de una persona física, en las celdas de Hipervinculo el documento donde se dosglose el gasto a precio del año, Hipervínculo al informe sobre el monto total erogado, que en su caso corresponda se deja en blanco.
A15: 2026 | B15: 46054 | C15: 46081 | D15: Permiso | E15: 274-26 | F15: ESTACIONAMIENTO EXCLUSIVO RESIDENCIAL | G15: REGLAMENTO DE TRANSITO HOMOLOGADO | H15: SECRETARÍA DE INFRAESTRUCTURA Y DESARROLLO URBANO | I15: Privado | J15: =+Tabla_590155!D11 -> ÁLVARO ENRIQUE | K15: =+Tabla_590155!B11 -> ÁLVAREZ | L15: =+Tabla_590155!C11 -> GONZÁLEZ | M15: Hombre | O15: =+Tabla_590155!A11 -> 8 | P15: 46070 | Q15: 46387 | R15: ARTÍCULO 58 | S15: =2987+3410 -> 6397 | T15: =+S15 -> 6397 | V15: https://nuevatransparencia.guadalupe.gob.mx/cms/documentosTransparenciaLinks/305/109/anexo_7283_274-26%20EXCLUSIVO%20RESIDENCIAL%20FEBRERO%202026.pdf | Y15: No | AA15: DIRECCIÓN DE INGENIERÍA VIAL | AB15: 46081 | AC15: En la celda de Razon Social en el cual se otorga el acto Juridico a persona fisica por tal motivo se deja en blanco por tratarse de una persona física, en las celdas de Hipervinculo el documento donde se dosglose el gasto a precio del año, Hipervínculo al informe sobre el monto total erogado, que en su caso corresponda se deja en blanco.
A16: 2026 | B16: 46054 | C16: 46081 | D16: Permiso | E16: 258-26 | F16: ESTACIONAMIENTO EXCLUSIVO RESIDENCIAL | G16: REGLAMENTO DE TRANSITO HOMOLOGADO | H16: SECRETARÍA DE INFRAESTRUCTURA Y DESARROLLO URBANO | I16: Privado | J16: =+Tabla_590155!D12 -> LUIS ADOLFO | K16: =+Tabla_590155!B12 -> RUBIO | L16: =+Tabla_590155!C12 -> IBARRA | M16: Hombre | O16: =+Tabla_590155!A12 -> 9 | P16: 46065 | Q16: 46387 | R16: ARTÍCULO 58 | S16: =6820+6938.88 -> 13758.88 | T16: =+S16 -> 13758.88 | V16: https://nuevatransparencia.guadalupe.gob.mx/cms/documentosTransparenciaLinks/305/109/anexo_7278_258-26%20EXCLUSIVO%20RESIDENCIAL%20FEBRERO%202026.pdf | Y16: No | AA16: DIRECCIÓN DE INGENIERÍA VIAL | AB16: 46081 | AC16: En la celda de Razon Social en el cual se otorga el acto Juridico a persona fisica por tal motivo se deja en blanco por tratarse de una persona física, en las celdas de Hipervinculo el documento donde se dosglose el gasto a precio del año, Hipervínculo al informe sobre el monto total erogado, que en su caso corresponda se deja en blanco.
A17: 2026 | B17: 46054 | C17: 46081 | D17: Permiso | E17: 271-26 | F17: ESTACIONAMIENTO EXCLUSIVO COMERCIAL | G17: REGLAMENTO DE TRANSITO HOMOLOGADO | H17: SECRETARÍA DE INFRAESTRUCTURA Y DESARROLLO URBANO | I17: Privado | J17: =+Tabla_590155!D13 -> NINETTE ELISA | K17: =+Tabla_590155!B13 -> RUIZ | L17: =+Tabla_590155!C13 -> DELGADO | M17: Mujer | O17: =+Tabla_590155!A13 -> 10 | P17: 46063 | Q17: 46387 | R17: ARTÍCULO 58 | S17: =9573.47+3410 -> 12983.47 | T17: =+S17 -> 12983.47 | V17: https://nuevatransparencia.guadalupe.gob.mx/cms/documentosTransparenciaLinks/305/109/anexo_7281_271-26%20EXCLUSIVO%20COMERCIAL%20FEBRERO%202026.pdf | Y17: No | AA17: DIRECCIÓN DE INGENIERÍA VIAL | AB17: 46081 | AC17: En la celda de Razon Social en el cual se otorga el acto Juridico a persona fisica por tal motivo se deja en blanco por tratarse de una persona física, en las celdas de Hipervinculo el documento donde se dosglose el gasto a precio del año, Hipervínculo al informe sobre el monto total erogado, que en su caso corresponda se deja en blanco.
A18: 2026 | B18: 46054 | C18: 46081 | D18: Permiso | E18: 244-26 | F18: ESTACIONAMIENTO EXCLUSIVO RESIDENCIAL | G18: REGLAMENTO DE TRANSITO HOMOLOGADO | H18: SECRETARÍA DE INFRAESTRUCTURA Y DESARROLLO URBANO | I18: Privado | J18: =+Tabla_590155!D14 -> SONIA ALEJANDRA | K18: =+Tabla_590155!B14 -> TREVIÑO | L18: =+Tabla_590155!C14 -> FRANCO | M18: Mujer | O18: =+Tabla_590155!A14 -> 11 | P18: 46059 | Q18: 46387 | R18: ARTÍCULO 58 | S18: =4116.11+3410 -> 7526.11 | T18: =+S18 -> 7526.11 | V18: https://nuevatransparencia.guadalupe.gob.mx/cms/documentosTransparenciaLinks/305/109/anexo_7277_244-26%20EXCLUSIVO%20RESIDENCIAL%20FEBRERO%202026.pdf | Y18: No | AA18: DIRECCIÓN DE INGENIERÍA VIAL | AB18: 46081 | AC18: En la celda de Razon Social en el cual se otorga el acto Juridico a persona fisica por tal motivo se deja en blanco por tratarse de una persona física, en las celdas de Hipervinculo el documento donde se dosglose el gasto a precio del año, Hipervínculo al informe sobre el monto total erogado, que en su caso corresponda se deja en blanco.
A19: 2026 | B19: 46054 | C19: 46081 | D19: Permiso | E19: 260-26 | F19: ESTACIONAMIENTO EXCLUSIVO RESIDENCIAL | G19: REGLAMENTO DE TRANSITO HOMOLOGADO | H19: SECRETARÍA DE INFRAESTRUCTURA Y DESARROLLO URBANO | I19: Privado | J19: =+Tabla_590155!D15 -> AMPARO | K19: =+Tabla_590155!B15 -> NARVÁEZ | L19: =+Tabla_590155!C15 -> ALARCÓN | M19: Mujer | O19: =+Tabla_590155!A15 -> 12 | P19: 46056 | Q19: 46387 | R19: ARTÍCULO 58 | S19: =3551.56+3410 -> 6961.56 | T19: =+S19 -> 6961.56 | V19: https://nuevatransparencia.guadalupe.gob.mx/cms/documentosTransparenciaLinks/305/109/anexo_7279_260-26%20EXCLUSIVO%20RESIDENCIAL%20FEBRERO%202026.pdf | Y19: No | AA19: DIRECCIÓN DE INGENIERÍA VIAL | AB19: 46081 | AC19: En la celda de Razon Social en el cual se otorga el acto Juridico a persona fisica por tal motivo se deja en blanco por tratarse de una persona física, en las celdas de Hipervinculo el documento donde se dosglose el gasto a precio del año, Hipervínculo al informe sobre el monto total erogado, que en su caso corresponda se deja en blanco.
A20: 2026 | B20: 46054 | C20: 46081 | D20: Permiso | E20: 013-26 | F20: CIERRE DE CALLE | G20: REGLAMENTO DE TRANSITO HOMOLOGADO | H20: SECRETARÍA DE INFRAESTRUCTURA Y DESARROLLO URBANO | I20: Privado | J20: =+Tabla_590155!B16 -> ARMANDO | K20: =+Tabla_590155!C16 -> GARCIA | L20: =+Tabla_590155!D16 -> ESPINOZA | M20: Hombre | O20: =+Tabla_590155!A16 -> 13 | P20: 46058 | Q20: 46058 | R20: ARTICULO 106 | S20: 328.46 | T20: =+S20 -> 328.46 | V20: https://nuevatransparencia.guadalupe.gob.mx/cms/documentosTransparenciaLinks/305/109/anexo_7253_CIERRE%20DE%20CALLE%20%20013-26%20FEBRERO%202026.pdf | Y20: No | AA20: DIRECCIÓN DE INGENIERÍA VIAL | AB20: 46081 | AC20: En la celda de Razon Social en el cual se otorga el acto Juridico a persona fisica por tal motivo se deja en blanco por tratarse de una persona física, en las celdas de Hipervinculo el documento donde se dosglose el gasto a precio del año, Hipervínculo al informe sobre el monto total erogado, que en su caso corresponda se deja en blanco.
A21: 2026 | B21: 46054 | C21: 46081 | D21: Permiso | E21: 014-26 | F21: CIERRE DE CALLE | G21: REGLAMENTO DE TRANSITO HOMOLOGADO | H21: SECRETARÍA DE INFRAESTRUCTURA Y DESARROLLO URBANO | I21: Privado | J21: =+Tabla_590155!B17 -> CRISTINA ANAIS | K21: =+Tabla_590155!C17 -> RODRIGUEZ | L21: =+Tabla_590155!D17 -> RIVERA | M21: Mujer | O21: =+Tabla_590155!A17 -> 14 | P21: 46060 | Q21: 46060 | R21: ARTICULO 106 | S21: 164.23 | T21: =+S21 -> 164.23 | V21: https://nuevatransparencia.guadalupe.gob.mx/cms/documentosTransparenciaLinks/305/109/anexo_7254_CIERRE%20DE%20CALLE%20%20014-26%20FEBRERO%202026.pdf | Y21: No | AA21: DIRECCIÓN DE INGENIERÍA VIAL | AB21: 46081 | AC21: En la celda de Razon Social en el cual se otorga el acto Juridico a persona fisica por tal motivo se deja en blanco por tratarse de una persona física, en las celdas de Hipervinculo el documento donde se dosglose el gasto a precio del año, Hipervínculo al informe sobre el monto total erogado, que en su caso corresponda se deja en blanco.
A22: 2026 | B22: 46054 | C22: 46081 | D22: Permiso | E22: 015-26 | F22: CIERRE DE CALLE | G22: REGLAMENTO DE TRANSITO HOMOLOGADO | H22: SECRETARÍA DE INFRAESTRUCTURA Y DESARROLLO URBANO | I22: Privado | J22: =+Tabla_590155!B18 -> JUANA MARIA | K22: =+Tabla_590155!C18 -> GARZA | L22: =+Tabla_590155!D18 -> PEREZ | M22: Mujer | O22: =+Tabla_590155!A18 -> 15 | P22: 46061 | Q22: 46061 | R22: ARTICULO 106 | S22: 164.23 | T22: =+S22 -> 164.23 | V22: https://nuevatransparencia.guadalupe.gob.mx/cms/documentosTransparenciaLinks/305/109/anexo_7255_CIERRE%20DE%20CALLE%20%20015-26%20FEBRERO%202026.pdf | Y22: No | AA22: DIRECCIÓN DE INGENIERÍA VIAL | AB22: 46081 | AC22: En la celda de Razon Social en el cual se otorga el acto Juridico a persona fisica por tal motivo se deja en blanco por tratarse de una persona física, en las celdas de Hipervinculo el documento donde se dosglose el gasto a precio del año, Hipervínculo al informe sobre el monto total erogado, que en su caso corresponda se deja en blanco.
A23: 2026 | B23: 46054 | C23: 46081 | D23: Permiso | E23: 017-26 | F23: CIERRE DE CALLE | G23: REGLAMENTO DE TRANSITO HOMOLOGADO | H23: SECRETARÍA DE INFRAESTRUCTURA Y DESARROLLO URBANO | I23: Privado | J23: =+Tabla_590155!B19 -> TANIA LIZETH | K23: =+Tabla_590155!C19 -> VALDEZ | L23: =+Tabla_590155!D19 -> LOZANO | M23: Mujer | O23: =+Tabla_590155!A19 -> 16 | P23: 46076 | Q23: 46082 | R23: ARTICULO 106 | S23: 6897.66 | T23: =+S23 -> 6897.66 | V23: https://nuevatransparencia.guadalupe.gob.mx/cms/documentosTransparenciaLinks/305/109/anexo_7256_CIERRE%20DE%20CALLE%20%20017-26%20FEBRERO%202026.pdf | Y23: No | AA23: DIRECCIÓN DE INGENIERÍA VIAL | AB23: 46081 | AC23: En la celda de Razon Social en el cual se otorga el acto Juridico a persona fisica por tal motivo se deja en blanco por tratarse de una persona física, en las celdas de Hipervinculo el documento donde se dosglose el gasto a precio del año, Hipervínculo al informe sobre el monto total erogado, que en su caso corresponda se deja en blanco.
A24: 2026 | B24: 46054 | C24: 46081 | D24: Permiso | E24: 018-26 | F24: CIERRE DE CALLE | G24: REGLAMENTO DE TRANSITO HOMOLOGADO | H24: SECRETARÍA DE INFRAESTRUCTURA Y DESARROLLO URBANO | I24: Privado | J24: =+Tabla_590155!B20 -> ROCIO ELIZABETH | K24: =+Tabla_590155!C20 -> PEREZ | L24: =+Tabla_590155!D20 -> ZAMARRIPA | M24: Mujer | O24: =+Tabla_590155!A20 -> 17 | P24: 46067 | Q24: 46067 | R24: ARTICULO 106 | S24: 164.23 | T24: =+S24 -> 164.23 | V24: https://nuevatransparencia.guadalupe.gob.mx/cms/documentosTransparenciaLinks/305/109/anexo_7257_CIERRE%20DE%20CALLE%20%20018-26%20FEBRERO%202026.pdf | Y24: No | AA24: DIRECCIÓN DE INGENIERÍA VIAL | AB24: 46081 | AC24: En la celda de Razon Social en el cual se otorga el acto Juridico a persona fisica por tal motivo se deja en blanco por tratarse de una persona física, en las celdas de Hipervinculo el documento donde se dosglose el gasto a precio del año, Hipervínculo al informe sobre el monto total erogado, que en su caso corresponda se deja en blanco.
A25: 2026 | B25: 46054 | C25: 46081 | D25: Permiso | E25: 020-26 | F25: CIERRE DE CALLE | G25: REGLAMENTO DE TRANSITO HOMOLOGADO | H25: SECRETARÍA DE INFRAESTRUCTURA Y DESARROLLO URBANO | I25: Privado | J25: =+Tabla_590155!B21 -> MIRNA ABIGAIL | K25: =+Tabla_590155!C21 -> GONZALEZ | L25: =+Tabla_590155!D21 -> RODRIGUEZ | M25: Mujer | O25: =+Tabla_590155!A21 -> 18 | P25: 46066 | Q25: 46066 | R25: ARTICULO 106 | S25: 328.46 | T25: =+S25 -> 328.46 | V25: https://nuevatransparencia.guadalupe.gob.mx/cms/documentosTransparenciaLinks/305/109/anexo_7258_CIERRE%20DE%20CALLE%20%20020-26%20FEBRERO%202026.pdf | Y25: No | AA25: DIRECCIÓN DE INGENIERÍA VIAL | AB25: 46081 | AC25: En la celda de Razon Social en el cual se otorga el acto Juridico a persona fisica por tal motivo se deja en blanco por tratarse de una persona física, en las celdas de Hipervinculo el documento donde se dosglose el gasto a precio del año, Hipervínculo al informe sobre el monto total erogado, que en su caso corresponda se deja en blanco.
A26: 2026 | B26: 46054 | C26: 46081 | D26: Permiso | E26: 021-26 | F26: CIERRE DE CALLE | G26: REGLAMENTO DE TRANSITO HOMOLOGADO | H26: SECRETARÍA DE INFRAESTRUCTURA Y DESARROLLO URBANO | I26: Privado | M26: Hombre | N26: =+Tabla_590155!B22 -> SERVICIOS LOGISTICOS KEYON S.A. DE C.V. | O26: =+Tabla_590155!A22 -> 19 | P26: 46069 | Q26: 46073 | R26: ARTICULO 106 | S26: 4926.9 | T26: =+S26 -> 4926.9 | V26: https://nuevatransparencia.guadalupe.gob.mx/cms/documentosTransparenciaLinks/305/109/anexo_7259_CIERRE%20DE%20CALLE%20%20021-26%20FEBRERO%202026.pdf | Y26: No | AA26: DIRECCIÓN DE INGENIERÍA VIAL | AB26: 46081 | AC26: En la celda de Nombre,primer apellido y segundo apellido se escribe no dato ya que se otorgo el acto juridico a Razon Social, en las celdas de hipervinculo al documento donde se desglose el pasto a precios del año, hipervinculo al informe sobre el monto total erogado que en su caso corresponda e hipervinculo al contrato plurianual modificado en su caso no se genera informacion al respecto
A27: 2026 | B27: 46054 | C27: 46081 | D27: Permiso | E27: 022-26 | F27: CIERRE DE CALLE | G27: REGLAMENTO DE TRANSITO HOMOLOGADO | H27: SECRETARÍA DE INFRAESTRUCTURA Y DESARROLLO URBANO | I27: Privado | J27: =+Tabla_590155!B23 -> ALEJANDRA | K27: =+Tabla_590155!C23 -> GOMEZ | L27: =+Tabla_590155!D23 -> DUARTE | M27: Mujer | O27: =+Tabla_590155!A23 -> 20 | P27: 46067 | Q27: 46067 | R27: ARTICULO 106 | S27: 164.23 | T27: =+S27 -> 164.23 | V27: https://nuevatransparencia.guadalupe.gob.mx/cms/documentosTransparenciaLinks/305/109/anexo_7260_CIERRE%20DE%20CALLE%20%20022-26%20FEBRERO%202026.pdf | Y27: No | AA27: DIRECCIÓN DE INGENIERÍA VIAL | AB27: 46081 | AC27: En la celda de Razon Social en el cual se otorga el acto Juridico a persona fisica por tal motivo se deja en blanco por tratarse de una persona física, en las celdas de Hipervinculo el documento donde se dosglose el gasto a precio del año, Hipervínculo al informe sobre el monto total erogado, que en su caso corresponda se deja en blanco.
A28: 2026 | B28: 46054 | C28: 46081 | D28: Permiso | E28: 023-26 | F28: CIERRE DE CALLE | G28: REGLAMENTO DE TRANSITO HOMOLOGADO | H28: SECRETARÍA DE INFRAESTRUCTURA Y DESARROLLO URBANO | I28: Privado | M28: Hombre | N28: =+Tabla_590155!B24 -> INMOBILIARIA H.L. SA. DE C.V. Y HACIDNA LOMA LARGA S.A. DE C.V | O28: =+Tabla_590155!A24 -> 21 | P28: 46076 | Q28: 46079 | R28: ARTICULO 106 | S28: 3941.52 | T28: =+S28 -> 3941.52 | V28: https://nuevatransparencia.guadalupe.gob.mx/cms/documentosTransparenciaLinks/305/109/anexo_7261_CIERRE%20DE%20CALLE%20%20023-26%20FEBRERO%202026.pdf | Y28: No | AA28: DIRECCIÓN DE INGENIERÍA VIAL | AB28: 46081 | AC28: En la celda de Nombre,primer apellido y segundo apellido se escribe no dato ya que se otorgo el acto juridico a Razon Social, en las celdas de hipervinculo al documento donde se desglose el pasto a precios del año, hipervinculo al informe sobre el monto total erogado que en su caso corresponda e hipervinculo al contrato plurianual modificado en su caso no se genera informacion al respecto
A29: 2026 | B29: 46054 | C29: 46081 | D29: Permiso | E29: 024-26 | F29: CIERRE DE CALLE | G29: REGLAMENTO DE TRANSITO HOMOLOGADO | H29: SECRETARÍA DE INFRAESTRUCTURA Y DESARROLLO URBANO | I29: Privado | J29: =+Tabla_590155!B25 -> ROBERTO ANGEL | K29: =+Tabla_590155!C25 -> HERNANDEZ | L29: =+Tabla_590155!D25 -> BELT | M29: Hombre | O29: =+Tabla_590155!A25 -> 22 | P29: 46072 | Q29: 46073 | R29: ARTICULO 106 | S29: 656.92 | T29: =+S29 -> 656.92 | V29: https://nuevatransparencia.guadalupe.gob.mx/cms/documentosTransparenciaLinks/305/109/anexo_7262_CIERRE%20DE%20CALLE%20%20024-26%20FEBRERO%202026.pdf | Y29: No | AA29: DIRECCIÓN DE INGENIERÍA VIAL | AB29: 46081 | AC29: En la celda de Razon Social en el cual se otorga el acto Juridico a persona fisica por tal motivo se deja en blanco por tratarse de una persona física, en las celdas de Hipervinculo el documento donde se dosglose el gasto a precio del año, Hipervínculo al informe sobre el monto total erogado, que en su caso corresponda se deja en blanco.
A30: 2026 | B30: 46054 | C30: 46081 | D30: Permiso | E30: 025-26 | F30: CIERRE DE CALLE | G30: REGLAMENTO DE TRANSITO HOMOLOGADO | H30: SECRETARÍA DE INFRAESTRUCTURA Y DESARROLLO URBANO | I30: Privado | M30: Hombre | N30: =+Tabla_590155!B26 -> SERVICIOS ESPECIALIZADOS PARA LA CONSTRUCCION S.A. DE C.V. | O30: =+Tabla_590155!A26 -> 23 | P30: 46072 | Q30: 46091 | R30: ARTICULO 106 | S30: 4598.44 | T30: =+S30 -> 4598.44 | V30: https://nuevatransparencia.guadalupe.gob.mx/cms/documentosTransparenciaLinks/305/109/anexo_7263_CIERRE%20DE%20CALLE%20%20025-26%20FEBRERO%202026.pdf | Y30: No | AA30: DIRECCIÓN DE INGENIERÍA VIAL | AB30: 46081 | AC30: En la celda de Nombre,primer apellido y segundo apellido se escribe no dato ya que se otorgo el acto juridico a Razon Social, en las celdas de hipervinculo al documento donde se desglose el pasto a precios del año, hipervinculo al informe sobre el monto total erogado que en su caso corresponda e hipervinculo al contrato plurianual modificado en su caso no se genera informacion al respecto
A31: 2026 | B31: 46054 | C31: 46081 | D31: Permiso | E31: 026-26 | F31: CIERRE DE CALLE | G31: REGLAMENTO DE TRANSITO HOMOLOGADO | H31: SECRETARÍA DE INFRAESTRUCTURA Y DESARROLLO URBANO | I31: Privado | J31: =+Tabla_590155!B27 -> CONCEPCION | K31: =+Tabla_590155!C27 -> REYNA | L31: =+Tabla_590155!D27 -> SANCHEZ | M31: Mujer | O31: =+Tabla_590155!A27 -> 24 | P31: 46074 | Q31: 46074 | R31: ARTICULO 106 | S31: 164.23 | T31: =+S31 -> 164.23 | V31: https://nuevatransparencia.guadalupe.gob.mx/cms/documentosTransparenciaLinks/305/109/anexo_7264_CIERRE%20DE%20CALLE%20%20026-26%20FEBRERO%202026.pdf | Y31: No | AA31: DIRECCIÓN DE INGENIERÍA VIAL | AB31: 46081 | AC31: En la celda de Razon Social en el cual se otorga el acto Juridico a persona fisica por tal motivo se deja en blanco por tratarse de una persona física, en las celdas de Hipervinculo el documento donde se dosglose el gasto a precio del año, Hipervínculo al informe sobre el monto total erogado, que en su caso corresponda se deja en blanco.
A32: 2026 | B32: 46054 | C32: 46081 | D32: Permiso | E32: 027-26 | F32: CIERRE DE CALLE | G32: REGLAMENTO DE TRANSITO HOMOLOGADO | H32: SECRETARÍA DE INFRAESTRUCTURA Y DESARROLLO URBANO | I32: Privado | J32: =+Tabla_590155!B28 -> RAMONA | K32: =+Tabla_590155!C28 -> OROZCO | L32: =+Tabla_590155!D28 -> HERRERA | M32: Mujer | O32: =+Tabla_590155!A28 -> 25 | P32: 46074 | Q32: 46074 | R32: ARTICULO 106 | S32: 164.23 | T32: =+S32 -> 164.23 | V32: https://nuevatransparencia.guadalupe.gob.mx/cms/documentosTransparenciaLinks/305/109/anexo_7265_CIERRE%20DE%20CALLE%20%20027-26%20FEBRERO%202026.pdf | Y32: No | AA32: DIRECCIÓN DE INGENIERÍA VIAL | AB32: 46081 | AC32: En la celda de Razon Social en el cual se otorga el acto Juridico a persona fisica por tal motivo se deja en blanco por tratarse de una persona física, en las celdas de Hipervinculo el documento donde se dosglose el gasto a precio del año, Hipervínculo al informe sobre el monto total erogado, que en su caso corresponda se deja en blanco.
A33: 2026 | B33: 46054 | C33: 46081 | D33: Permiso | E33: 028-26 | F33: CIERRE DE CALLE | G33: REGLAMENTO DE TRANSITO HOMOLOGADO | H33: SECRETARÍA DE INFRAESTRUCTURA Y DESARROLLO URBANO | I33: Privado | J33: =+Tabla_590155!B29 -> OMAR DANIEL | K33: =+Tabla_590155!C29 -> SALINAS | L33: =+Tabla_590155!D29 -> MONTEJANO | M33: Hombre | O33: =+Tabla_590155!A29 -> 26 | P33: 46069 | Q33: 46073 | R33: ARTICULO 106 | S33: 4926.9 | T33: =+S33 -> 4926.9 | V33: https://nuevatransparencia.guadalupe.gob.mx/cms/documentosTransparenciaLinks/305/109/anexo_7266_CIERRE%20DE%20CALLE%20%20028-26%20FEBRERO%202026.pdf | Y33: No | AA33: DIRECCIÓN DE INGENIERÍA VIAL | AB33: 46081 | AC33: En la celda de Razon Social en el cual se otorga el acto Juridico a persona fisica por tal motivo se deja en blanco por tratarse de una persona física, en las celdas de Hipervinculo el documento donde se dosglose el gasto a precio del año, Hipervínculo al informe sobre el monto total erogado, que en su caso corresponda se deja en blanco.
A34: 2026 | B34: 46054 | C34: 46081 | D34: Permiso | E34: 029-26 | F34: CIERRE DE CALLE | G34: REGLAMENTO DE TRANSITO HOMOLOGADO | H34: SECRETARÍA DE INFRAESTRUCTURA Y DESARROLLO URBANO | I34: Privado | J34: =+Tabla_590155!B30 -> OMAR FEDERICO | K34: =+Tabla_590155!C30 -> RAMOS | L34: =+Tabla_590155!D30 -> CARDENAS | M34: Hombre | O34: =+Tabla_590155!A30 -> 27 | P34: 46080 | Q34: 46080 | R34: ARTICULO 106 | S34: 164.23 | T34: =+S34 -> 164.23 | V34: https://nuevatransparencia.guadalupe.gob.mx/cms/documentosTransparenciaLinks/305/109/anexo_7267_CIERRE%20DE%20CALLE%20%20029-26%20FEBRERO%202026.pdf | Y34: No | AA34: DIRECCIÓN DE INGENIERÍA VIAL | AB34: 46081 | AC34: En la celda de Razon Social en el cual se otorga el acto Juridico a persona fisica por tal motivo se deja en blanco por tratarse de una persona física, en las celdas de Hipervinculo el documento donde se dosglose el gasto a precio del año, Hipervínculo al informe sobre el monto total erogado, que en su caso corresponda se deja en blanco.
A35: 2026 | B35: 46054 | C35: 46081 | D35: Permiso | E35: 030-26 | F35: CIERRE DE CALLE | G35: REGLAMENTO DE TRANSITO HOMOLOGADO | H35: SECRETARÍA DE INFRAESTRUCTURA Y DESARROLLO URBANO | I35: Privado | J35: =+Tabla_590155!B31 -> MARIA FERNANDA | K35: =+Tabla_590155!C31 -> SALAZAR | L35: =+Tabla_590155!D31 -> ANDRADE | M35: Mujer | O35: =+Tabla_590155!A31 -> 28 | P35: 46081 | Q35: 46081 | R35: ARTICULO 106 | S35: 164.23 | T35: =+S35 -> 164.23 | V35: https://nuevatransparencia.guadalupe.gob.mx/cms/documentosTransparenciaLinks/305/109/anexo_7268_CIERRE%20DE%20CALLE%20%20030-26%20FEBRERO%202026.pdf | Y35: No | AA35: DIRECCIÓN DE INGENIERÍA VIAL | AB35: 46081 | AC35: En la celda de Razon Social en el cual se otorga el acto Juridico a persona fisica por tal motivo se deja en blanco por tratarse de una persona física, en las celdas de Hipervinculo el documento donde se dosglose el gasto a precio del año, Hipervínculo al informe sobre el monto total erogado, que en su caso corresponda se deja en blanco.
A36: 2026 | B36: 46054 | C36: 46081 | D36: Permiso | E36: 007-26 | F36: CARGA Y DESCARGA | G36: REGLAMENTO DE TRANSITO HOMOLOGADO | H36: SECRETARÍA DE INFRAESTRUCTURA Y DESARROLLO URBANO | I36: Privado | N36: =+Tabla_590155!B32 -> REFACCIONARIA TREVILO S.A. DE C.V. | O36: =+Tabla_590155!A32 -> 29 | P36: 46066 | Q36: 46155 | R36: ARTICULO 41 | S36: 7742.46 | T36: =+S36 -> 7742.46 | V36: https://nuevatransparencia.guadalupe.gob.mx/cms/documentosTransparenciaLinks/305/109/anexo_7269_CARGA%20Y%20DESCARGA%20007-26%20FEBRERO%202026.pdf | Y36: No | AA36: DIRECCIÓN DE INGENIERÍA VIAL | AB36: 46081 | AC36: En la celda de Razon Social en el cual se otorga el acto Juridico a persona fisica por tal motivo se deja en blanco por tratarse de una persona física, en las celdas de Hipervinculo el documento donde se dosglose el gasto a precio del año, Hipervínculo al informe sobre el monto total erogado, que en su caso corresponda se deja en blanco.
A37: 2026 | B37: 46054 | C37: 46081 | D37: Permiso | E37: 007-26 | F37: CARGA Y DESCARGA | G37: REGLAMENTO DE TRANSITO HOMOLOGADO | H37: SECRETARÍA DE INFRAESTRUCTURA Y DESARROLLO URBANO | I37: Privado | J37: =+Tabla_590155!B33 -> ARMIDA MIREYA | K37: =+Tabla_590155!C33 -> CRUZ | L37: =+Tabla_590155!D33 -> VILLARREAL | M37: Mujer | O37: =+Tabla_590155!A33 -> 30 | P37: 46059 | Q37: 46148 | R37: ARTICULO 41 | S37: 3871.23 | T37: =+S37 -> 3871.23 | V37: https://nuevatransparencia.guadalupe.gob.mx/cms/documentosTransparenciaLinks/305/109/anexo_7270_CARGA%20Y%20DESCARGA%20008-26%20FEBRERO%202026.pdf | Y37: No | AA37: DIRECCIÓN DE INGENIERÍA VIAL | AB37: 46081 | AC37: En la celda de Razon Social en el cual se otorga el acto Juridico a persona fisica por tal motivo se deja en blanco por tratarse de una persona física, en las celdas de Hipervinculo el documento donde se dosglose el gasto a precio del año, Hipervínculo al informe sobre el monto total erogado, que en su caso corresponda se deja en blanco.
A38: 2026 | B38: 46054 | C38: 46081 | D38: Permiso | E38: 008-26 | F38: CARGA Y DESCARGA | G38: REGLAMENTO DE TRANSITO HOMOLOGADO | H38: SECRETARÍA DE INFRAESTRUCTURA Y DESARROLLO URBANO | I38: Privado | J38: =+Tabla_590155!B34 -> VICTOR FERNANDO | K38: =+Tabla_590155!C34 -> LAZCANO | L38: =+Tabla_590155!D34 -> CARDENAS | M38: Hombre | O38: =+Tabla_590155!A34 -> 31 | P38: 46064 | Q38: 46153 | R38: ARTICULO 41 | S38: 3871.23 | T38: =+S38 -> 3871.23 | V38: https://nuevatransparencia.guadalupe.gob.mx/cms/documentosTransparenciaLinks/305/109/anexo_7271_CARGA%20Y%20DESCARGA%20011-26%20FEBRERO%202026.pdf | Y38: No | AA38: DIRECCIÓN DE INGENIERÍA VIAL | AB38: 46081 | AC38: En la celda de Razon Social en el cual se otorga el acto Juridico a persona fisica por tal motivo se deja en blanco por tratarse de una persona física, en las celdas de Hipervinculo el documento donde se dosglose el gasto a precio del año, Hipervínculo al informe sobre el monto total erogado, que en su caso corresponda se deja en blanco.
A39: 2026 | B39: 46054 | C39: 46081 | D39: Permiso | E39: 011-26 | F39: CARGA Y DESCARGA | G39: REGLAMENTO DE TRANSITO HOMOLOGADO | H39: SECRETARÍA DE INFRAESTRUCTURA Y DESARROLLO URBANO | I39: Privado | N39: =+Tabla_590155!B35 -> DESARROLLO LITOGRAFICO S.A. DE C.V. | O39: =+Tabla_590155!A35 -> 32 | P39: 46059 | Q39: 46148 | R39: ARTICULO 41 | S39: 3871.23 | T39: =+S39 -> 3871.23 | V39: https://nuevatransparencia.guadalupe.gob.mx/cms/documentosTransparenciaLinks/305/109/anexo_7272_CARGA%20Y%20DESCARGA%20014-26%20FEBRERO%202026.pdf | Y39: No | AA39: DIRECCIÓN DE INGENIERÍA VIAL | AB39: 46081 | AC39: En la celda de Nombre,primer apellido y segundo apellido se escribe no dato ya que se otorgo el acto juridico a Razon Social, en las celdas de hipervinculo al documento donde se desglose el pasto a precios del año, hipervinculo al informe sobre el monto total erogado que en su caso corresponda e hipervinculo al contrato plurianual modificado en su caso no se genera informacion al respecto
A40: 2026 | B40: 46054 | C40: 46081 | D40: Permiso | E40: 014-26 | F40: CARGA Y DESCARGA | G40: REGLAMENTO DE TRANSITO HOMOLOGADO | H40: SECRETARÍA DE INFRAESTRUCTURA Y DESARROLLO URBANO | I40: Privado | N40: =+Tabla_590155!B36 -> AGUA INMACULADA S.A. DE C.V. | O40: =+Tabla_590155!A36 -> 33 | P40: 46071 | Q40: 46160 | R40: ARTICULO 41 | S40: 3871.23 | T40: =+S40 -> 3871.23 | V40: https://nuevatransparencia.guadalupe.gob.mx/cms/documentosTransparenciaLinks/305/109/anexo_7273_CARGA%20Y%20DESCARGA%20025-26%20FEBRERO%202026.pdf | Y40: No | AA40: DIRECCIÓN DE INGENIERÍA VIAL | AB40: 46081 | AC40: En la celda de Nombre,primer apellido y segundo apellido se escribe no dato ya que se otorgo el acto juridico a Razon Social, en las celdas de hipervinculo al documento donde se desglose el pasto a precios del año, hipervinculo al informe sobre el monto total erogado que en su caso corresponda e hipervinculo al contrato plurianual modificado en su caso no se genera informacion al respecto
...

Sheet Hidden_1
A1: Licencia
A2: Contrato
A3: Convenio
A4: Permiso
A5: Concesión
A6: Autorización
A7: Asignaciones
A8: Otro (especificar)

Sheet Hidden_2
A1: Privado
A2: Público
A3: Mixto

Sheet Hidden_3
A1: Hombre
A2: Mujer

Sheet Hidden_4
A1: Si
A2: No

Sheet Tabla_590155
B1: 2 | C1: 2 | D1: 2
B2: 81202 | C2: 81204 | D2: 81203
A3: ID | B3: Nombre(s) de la persona beneficiaria final | C3: Primer apellido de la persona beneficiaria final | D3: Segundo apellido de la persona beneficiaria final
A4: 1 | B4: GARCÍA | C4: MORALES | D4: ARGELIA
A5: 2 | B5: VÁZQUEZ | C5: SOLANO | D5: ROSA YOLANDA
A6: 3 | B6: LOZANO | C6: SALINAS | D6: HILDA MARCELA
A7: 4 | B7: CARDOSO | C7: HERRERA | D7: CARLA LILIANA
A8: 5 | B8: MARTÍNEZ | C8: ZACARIAS | D8: GERSO
A9: 6 | B9: SUSTAITA | C9: RODRÍGUEZ | D9: VÍCTOR MANUEL
A10: 7 | B10: DÍAZ DE LEÓN | C10: PIÑON | D10: ROBERTO
A11: 8 | B11: ÁLVAREZ | C11: GONZÁLEZ | D11: ÁLVARO ENRIQUE
A12: 9 | B12: RUBIO | C12: IBARRA | D12: LUIS ADOLFO
A13: 10 | B13: RUIZ | C13: DELGADO | D13: NINETTE ELISA
A14: 11 | B14: TREVIÑO | C14: FRANCO | D14: SONIA ALEJANDRA
A15: 12 | B15: NARVÁEZ | C15: ALARCÓN | D15: AMPARO
... A21: 18 | B21: MIRNA ABIGAIL | C21: GONZALEZ | D21: RODRIGUEZ
A22: 19 | B22: SERVICIOS LOGISTICOS KEYON S.A. DE C.V.
A23: 20 | B23: ALEJANDRA | C23: GOMEZ | D23: DUARTE
A24: 21 | B24: INMOBILIARIA H.L. SA. DE C.V. Y HACIDNA LOMA LARGA S.A. DE C.V
A25: 22 | B25: ROBERTO ANGEL | C25: HERNANDEZ | D25: BELT
A26: 23 | B26: SERVICIOS ESPECIALIZADOS PARA LA CONSTRUCCION S.A. DE C.V.
A27: 24 | B27: CONCEPCION | C27: REYNA | D27: SANCHEZ
A28: 25 | B28: RAMONA | C28: OROZCO | D28: HERRERA
A29: 26 | B29: OMAR DANIEL | C29: SALINAS | D29: MONTEJANO
A30: 27 | B30: OMAR FEDERICO | C30: RAMOS | D30: CARDENAS
A31: 28 | B31: MARIA FERNANDA | C31: SALAZAR | D31: ANDRADE
A32: 29 | B32: REFACCIONARIA TREVILO S.A. DE C.V.
A33: 30 | B33: ARMIDA MIREYA | C33: CRUZ | D33: VILLARREAL
A34: 31 | B34: VICTOR FERNANDO | C34: LAZCANO | D34: CARDENAS
A35: 32 | B35: DESARROLLO LITOGRAFICO S.A. DE C.V.
A36: 33 | B36: AGUA INMACULADA S.A. DE C.V.
A37: 34 | B37: ELT S.A. DE C.V.
A38: 35 | B38: CONSTRUCCION Y PREGABRICACION S.A. DE C.V.
A39: 36 | B39: IVAN DARIO | C39: MEDINA | D39: DIMAS
A40: 268 | B40: MARTHA ORALIA | C40: RIVERA | D40: NAJERA
A41: 580 | B41: ROSA MARIA | C41: CAVAZOS | D41: GARZA
A42: 598 | B42: MA. MERCEDES | C42: RODRIGUEZ | D42: GARCIA
A43: 610 | B43: LYSSETTE JACKELINE | C43: GARCIA | D43: VALDEZ
A44: 645 | B44: ROBERTO | C44: GARCIA | D44: AGUILERA
A45: 653 | B45: FRANCISCO JAVIER | C45: DE LA TORRE | D45: SANCHEZ
...
